BEGIN:VCALENDAR
VERSION:2.0
PRODID:-//wp-events-plugin.com//7.2.3.1//EN
TZID:Europe/Berlin
X-WR-TIMEZONE:Europe/Berlin
BEGIN:VEVENT
UID:121@vogt-sven.de
DTSTART;TZID=Europe/Berlin:20240317T110000
DTEND;TZID=Europe/Berlin:20240317T180000
DTSTAMP:20240729T092139Z
URL:https://vogt-sven.de/termine/troedelmarkt-in-recklinghausen-2024-03-17
 /
SUMMARY:Trödelmarkt in Recklinghausen
DESCRIPTION:Dieser Markt ist komplett überdacht und somit fast Wetter unab
 hängig. Bei Händlern als auch für Besucher ist dieser Markt sehr belieb
 t.\nAuch dieser Markt ist zentral im Ruhrgebiet gelegen und für jedermann
  gut zu erreichen.\n\nPreise:\n\nLfdm. Trödel: 10\,00€ + 5\,00€ Grund
 gebühr\n\nLfdm. Neuware 20\,00€ + 10\,00 € Grundgebühr\n\n&nbsp\;\n\
 nSonderpreise &amp\; - stände können angefragt werden.\n\n&nbsp\;\n\nPla
 tzwünsche und Reservierungen gegen Vorkasse.\n\nKinderdecken sind kostenl
 os.\n\nIn Zusammenarbeit mit der Firma L. Siegel GmbH\n(Veranstalter: Sven
  Vogt)
LOCATION:Recklinghausen\, METRO\, Querstraße 53\, Recklinghausen\, Nordrhe
 in-Westfalen\, 45661\, Deutschland
X-APPLE-STRUCTURED-LOCATION;VALUE=URI;X-ADDRESS=Querstraße 53\, Recklingha
 usen\, Nordrhein-Westfalen\, 45661\, Deutschland;X-APPLE-RADIUS=100;X-TITL
 E=Recklinghausen\, METRO:geo:0,0
END:VEVENT
BEGIN:VTIMEZONE
TZID:Europe/Berlin
X-LIC-LOCATION:Europe/Berlin
BEGIN:STANDARD
DTSTART:20231029T020000
TZOFFSETFROM:+0200
TZOFFSETTO:+0100
TZNAME:CET
END:STANDARD
END:VTIMEZONE
END:VCALENDAR