BEGIN:VCALENDAR
VERSION:2.0
PRODID:-//wp-events-plugin.com//7.2.3.1//EN
TZID:Europe/Berlin
X-WR-TIMEZONE:Europe/Berlin
BEGIN:VEVENT
UID:1034@vogt-sven.de
DTSTART;TZID=Europe/Berlin:20260517T110000
DTEND;TZID=Europe/Berlin:20260517T180000
DTSTAMP:20260128T194747Z
URL:https://vogt-sven.de/termine/troedelmarkt-in-recklinghausen-metro-7/
SUMMARY:Trödelmarkt in Recklinghausen\, METRO
DESCRIPTION:Dieser beliebte Trödelmarkt in Recklinghausen an der Metro ist
  komplett überdacht.\nPreise:\nAngebot 4m Trödel für 35\,00€ (inkl. G
 rundgebühr)\nlfdm. Trödel: 10\,00€\nlfdm. Neuware: 20\,00€\nGrundgeb
 ühr Trödel: 5\,00€\nGrundgebühr Neuware: 10\,00€\nSonderstände kö
 nnen gerne angefragt werden.\nAnmeldungen bitte unter 0151 11646999 oder u
 nter info@vogt-sven.de\nIn Zusammenarbeit mit der Fa. Veranstaltungen / Di
 enstleistungen Armin Dahl\nVeranstalter: Fa. Veranstaltungen / Dienstleist
 ungen Armin Dahl
LOCATION:Recklinghausen\, METRO\, Querstraße 53\, Recklinghausen\, Nordrhe
 in-Westfalen\, 45661\, Deutschland
X-APPLE-STRUCTURED-LOCATION;VALUE=URI;X-ADDRESS=Querstraße 53\, Recklingha
 usen\, Nordrhein-Westfalen\, 45661\, Deutschland;X-APPLE-RADIUS=100;X-TITL
 E=Recklinghausen\, METRO:geo:0,0
END:VEVENT
BEGIN:VTIMEZONE
TZID:Europe/Berlin
X-LIC-LOCATION:Europe/Berlin
BEGIN:DAYLIGHT
DTSTART:20260329T030000
TZOFFSETFROM:+0100
TZOFFSETTO:+0200
TZNAME:CEST
END:DAYLIGHT
END:VTIMEZONE
END:VCALENDAR