BEGIN:VCALENDAR
VERSION:2.0
PRODID:-//wp-events-plugin.com//7.2.3.1//EN
TZID:Europe/Berlin
X-WR-TIMEZONE:Europe/Berlin
BEGIN:VEVENT
UID:1007@vogt-sven.de
DTSTART;TZID=Europe/Berlin:20260510T110000
DTEND;TZID=Europe/Berlin:20260510T180000
DTSTAMP:20260103T120205Z
URL:https://vogt-sven.de/termine/troedelmarkt-in-witten-ostermann-3/
SUMMARY:Trödelmarkt in Witten\, Ostermann
DESCRIPTION:
LOCATION:Witten\, Möbel Ostermann\, Fredi-Ostermann-Straße 1–3\, Witten
 \, Nordrhein-Westfalen\, 58545\, Deutschland
X-APPLE-STRUCTURED-LOCATION;VALUE=URI;X-ADDRESS=Fredi-Ostermann-Straße 1
 –3\, Witten\, Nordrhein-Westfalen\, 58545\, Deutschland;X-APPLE-RADIUS=1
 00;X-TITLE=Witten\, Möbel Ostermann:geo:0,0
END:VEVENT
BEGIN:VTIMEZONE
TZID:Europe/Berlin
X-LIC-LOCATION:Europe/Berlin
BEGIN:DAYLIGHT
DTSTART:20260329T030000
TZOFFSETFROM:+0100
TZOFFSETTO:+0200
TZNAME:CEST
END:DAYLIGHT
END:VTIMEZONE
END:VCALENDAR